BEGIN:VCALENDAR
VERSION:2.0
PRODID:-// - ECPv6.15.20//NONSGML v1.0//EN
CALSCALE:GREGORIAN
METHOD:PUBLISH
X-ORIGINAL-URL:https://alfred-kaestner-grundschule.de
X-WR-CALDESC:Veranstaltungen für 
REFRESH-INTERVAL;VALUE=DURATION:PT1H
X-Robots-Tag:noindex
X-PUBLISHED-TTL:PT1H
BEGIN:VTIMEZONE
TZID:Europe/Berlin
BEGIN:DAYLIGHT
TZOFFSETFROM:+0100
TZOFFSETTO:+0200
TZNAME:CEST
DTSTART:20220327T010000
END:DAYLIGHT
BEGIN:STANDARD
TZOFFSETFROM:+0200
TZOFFSETTO:+0100
TZNAME:CET
DTSTART:20221030T010000
END:STANDARD
BEGIN:DAYLIGHT
TZOFFSETFROM:+0100
TZOFFSETTO:+0200
TZNAME:CEST
DTSTART:20230326T010000
END:DAYLIGHT
BEGIN:STANDARD
TZOFFSETFROM:+0200
TZOFFSETTO:+0100
TZNAME:CET
DTSTART:20231029T010000
END:STANDARD
BEGIN:DAYLIGHT
TZOFFSETFROM:+0100
TZOFFSETTO:+0200
TZNAME:CEST
DTSTART:20240331T010000
END:DAYLIGHT
BEGIN:STANDARD
TZOFFSETFROM:+0200
TZOFFSETTO:+0100
TZNAME:CET
DTSTART:20241027T010000
END:STANDARD
BEGIN:DAYLIGHT
TZOFFSETFROM:+0100
TZOFFSETTO:+0200
TZNAME:CEST
DTSTART:20250330T010000
END:DAYLIGHT
BEGIN:STANDARD
TZOFFSETFROM:+0200
TZOFFSETTO:+0100
TZNAME:CET
DTSTART:20251026T010000
END:STANDARD
END:VTIMEZONE
BEGIN:VEVENT
DTSTART;TZID=Europe/Berlin:20231201T150000
DTEND;TZID=Europe/Berlin:20231201T170000
DTSTAMP:20260422T102541
CREATED:20230918T114147Z
LAST-MODIFIED:20231107T105600Z
UID:1083-1701442800-1701450000@alfred-kaestner-grundschule.de
SUMMARY:Tag der offenen Tür Alfred-Kästner-Grundschule
DESCRIPTION:
URL:https://alfred-kaestner-grundschule.de/event/tag-der-offenen-tuer/
END:VEVENT
BEGIN:VEVENT
DTSTART;TZID=Europe/Berlin:20231201T163000
DTEND;TZID=Europe/Berlin:20231201T183000
DTSTAMP:20260422T102541
CREATED:20231107T105712Z
LAST-MODIFIED:20231107T143829Z
UID:1255-1701448200-1701455400@alfred-kaestner-grundschule.de
SUMMARY:Tag der offenen Tür im Hort
DESCRIPTION:
URL:https://alfred-kaestner-grundschule.de/event/tag-der-offenen-tuer-hort/
END:VEVENT
BEGIN:VEVENT
DTSTART;VALUE=DATE:20231208
DTEND;VALUE=DATE:20231209
DTSTAMP:20260422T102541
CREATED:20221021T221144Z
LAST-MODIFIED:20231107T142748Z
UID:528-1701993600-1702079999@alfred-kaestner-grundschule.de
SUMMARY:Hort geschlossen (pädagogischer Tag)
DESCRIPTION:Betreuung der Kinder bis zum Mittagessen durch die Schule\n(Die Schule bemüht sich um eine gemeinsame Schlusszeit für Geschwisterkinder)
URL:https://alfred-kaestner-grundschule.de/event/hort-geschlossen-4/
END:VEVENT
BEGIN:VEVENT
DTSTART;TZID=Europe/Berlin:20231215T080000
DTEND;TZID=Europe/Berlin:20231215T170000
DTSTAMP:20260422T102541
CREATED:20231215T082921Z
LAST-MODIFIED:20231215T082921Z
UID:1313-1702627200-1702659600@alfred-kaestner-grundschule.de
SUMMARY:Besuch Krystallpalast Pinoccio
DESCRIPTION:Alle Kinder sind gegen 12:00 Uhr wieder in der Schule–> danach ist Unterrichtsende!
URL:https://alfred-kaestner-grundschule.de/event/besuch-krystallpalast-pinoccio/
END:VEVENT
BEGIN:VEVENT
DTSTART;VALUE=DATE:20231223
DTEND;VALUE=DATE:20240103
DTSTAMP:20260422T102541
CREATED:20230918T114248Z
LAST-MODIFIED:20230918T114248Z
UID:1085-1703289600-1704239999@alfred-kaestner-grundschule.de
SUMMARY:Weihnachtsferien/Neujahr
DESCRIPTION:
URL:https://alfred-kaestner-grundschule.de/event/weihnachtsferien-neujahr/
END:VEVENT
END:VCALENDAR