BEGIN:VCALENDAR
VERSION:2.0
PRODID:-// - ECPv6.15.20//NONSGML v1.0//EN
CALSCALE:GREGORIAN
METHOD:PUBLISH
X-ORIGINAL-URL:https://alfred-kaestner-grundschule.de
X-WR-CALDESC:Veranstaltungen für 
REFRESH-INTERVAL;VALUE=DURATION:PT1H
X-Robots-Tag:noindex
X-PUBLISHED-TTL:PT1H
BEGIN:VTIMEZONE
TZID:Europe/Berlin
BEGIN:DAYLIGHT
TZOFFSETFROM:+0100
TZOFFSETTO:+0200
TZNAME:CEST
DTSTART:20220327T010000
END:DAYLIGHT
BEGIN:STANDARD
TZOFFSETFROM:+0200
TZOFFSETTO:+0100
TZNAME:CET
DTSTART:20221030T010000
END:STANDARD
BEGIN:DAYLIGHT
TZOFFSETFROM:+0100
TZOFFSETTO:+0200
TZNAME:CEST
DTSTART:20230326T010000
END:DAYLIGHT
BEGIN:STANDARD
TZOFFSETFROM:+0200
TZOFFSETTO:+0100
TZNAME:CET
DTSTART:20231029T010000
END:STANDARD
BEGIN:DAYLIGHT
TZOFFSETFROM:+0100
TZOFFSETTO:+0200
TZNAME:CEST
DTSTART:20240331T010000
END:DAYLIGHT
BEGIN:STANDARD
TZOFFSETFROM:+0200
TZOFFSETTO:+0100
TZNAME:CET
DTSTART:20241027T010000
END:STANDARD
BEGIN:DAYLIGHT
TZOFFSETFROM:+0100
TZOFFSETTO:+0200
TZNAME:CEST
DTSTART:20250330T010000
END:DAYLIGHT
BEGIN:STANDARD
TZOFFSETFROM:+0200
TZOFFSETTO:+0100
TZNAME:CET
DTSTART:20251026T010000
END:STANDARD
END:VTIMEZONE
BEGIN:VEVENT
DTSTART;VALUE=DATE:20231223
DTEND;VALUE=DATE:20240103
DTSTAMP:20260422T085108
CREATED:20230918T114248Z
LAST-MODIFIED:20230918T114248Z
UID:1085-1703289600-1704239999@alfred-kaestner-grundschule.de
SUMMARY:Weihnachtsferien/Neujahr
DESCRIPTION:
URL:https://alfred-kaestner-grundschule.de/event/weihnachtsferien-neujahr/
END:VEVENT
BEGIN:VEVENT
DTSTART;VALUE=DATE:20240102
DTEND;VALUE=DATE:20240103
DTSTAMP:20260422T085108
CREATED:20231215T083520Z
LAST-MODIFIED:20231215T083520Z
UID:1320-1704153600-1704239999@alfred-kaestner-grundschule.de
SUMMARY:Schließtag-Hort
DESCRIPTION:
URL:https://alfred-kaestner-grundschule.de/event/schliesstag-hort/
END:VEVENT
BEGIN:VEVENT
DTSTART;VALUE=DATE:20240103
DTEND;VALUE=DATE:20240104
DTSTAMP:20260422T085108
CREATED:20231215T083008Z
LAST-MODIFIED:20231215T083114Z
UID:1316-1704240000-1704326399@alfred-kaestner-grundschule.de
SUMMARY:erster Schultag nach den Weihnachtsferien
DESCRIPTION:
URL:https://alfred-kaestner-grundschule.de/event/konzert-klassenstufe-2/
END:VEVENT
BEGIN:VEVENT
DTSTART;TZID=Europe/Berlin:20240117T180000
DTEND;TZID=Europe/Berlin:20240117T193000
DTSTAMP:20260422T085108
CREATED:20231215T081927Z
LAST-MODIFIED:20231215T081927Z
UID:1307-1705514400-1705519800@alfred-kaestner-grundschule.de
SUMMARY:Elternabend zu Bildungswegen nach Klasse 4
DESCRIPTION:
URL:https://alfred-kaestner-grundschule.de/event/elternabend-zu-bildungswegen-nach-klasse-4/
END:VEVENT
BEGIN:VEVENT
DTSTART;TZID=Europe/Berlin:20240124T193000
DTEND;TZID=Europe/Berlin:20240124T200000
DTSTAMP:20260422T085108
CREATED:20231215T082603Z
LAST-MODIFIED:20231215T082603Z
UID:1311-1706124600-1706126400@alfred-kaestner-grundschule.de
SUMMARY:Schulkonferenz
DESCRIPTION:Tagesordnung: \n\nBeschluss Hausordnung\nBeschluss GTA 2024/2025
URL:https://alfred-kaestner-grundschule.de/event/schulkonferenz/
END:VEVENT
END:VCALENDAR