BEGIN:VCALENDAR
VERSION:2.0
PRODID:-// - ECPv6.15.20//NONSGML v1.0//EN
CALSCALE:GREGORIAN
METHOD:PUBLISH
X-ORIGINAL-URL:https://alfred-kaestner-grundschule.de
X-WR-CALDESC:Veranstaltungen für 
REFRESH-INTERVAL;VALUE=DURATION:PT1H
X-Robots-Tag:noindex
X-PUBLISHED-TTL:PT1H
BEGIN:VTIMEZONE
TZID:Europe/Berlin
BEGIN:DAYLIGHT
TZOFFSETFROM:+0100
TZOFFSETTO:+0200
TZNAME:CEST
DTSTART:20230326T010000
END:DAYLIGHT
BEGIN:STANDARD
TZOFFSETFROM:+0200
TZOFFSETTO:+0100
TZNAME:CET
DTSTART:20231029T010000
END:STANDARD
BEGIN:DAYLIGHT
TZOFFSETFROM:+0100
TZOFFSETTO:+0200
TZNAME:CEST
DTSTART:20240331T010000
END:DAYLIGHT
BEGIN:STANDARD
TZOFFSETFROM:+0200
TZOFFSETTO:+0100
TZNAME:CET
DTSTART:20241027T010000
END:STANDARD
BEGIN:DAYLIGHT
TZOFFSETFROM:+0100
TZOFFSETTO:+0200
TZNAME:CEST
DTSTART:20250330T010000
END:DAYLIGHT
BEGIN:STANDARD
TZOFFSETFROM:+0200
TZOFFSETTO:+0100
TZNAME:CET
DTSTART:20251026T010000
END:STANDARD
END:VTIMEZONE
BEGIN:VEVENT
DTSTART;VALUE=DATE:20240605
DTEND;VALUE=DATE:20240606
DTSTAMP:20260422T010615
CREATED:20240207T195651Z
LAST-MODIFIED:20240207T195651Z
UID:1378-1717545600-1717631999@alfred-kaestner-grundschule.de
SUMMARY:nachträgliche Bildungsempfehlungen
DESCRIPTION:
URL:https://alfred-kaestner-grundschule.de/event/nachtraegliche-bildungsempfehlungen/
END:VEVENT
BEGIN:VEVENT
DTSTART;VALUE=DATE:20240607
DTEND;VALUE=DATE:20240608
DTSTAMP:20260422T010615
CREATED:20240207T195716Z
LAST-MODIFIED:20240207T195716Z
UID:1380-1717718400-1717804799@alfred-kaestner-grundschule.de
SUMMARY:Ende GTA
DESCRIPTION:
URL:https://alfred-kaestner-grundschule.de/event/ende-gta/
END:VEVENT
BEGIN:VEVENT
DTSTART;VALUE=DATE:20240618
DTEND;VALUE=DATE:20240619
DTSTAMP:20260422T010615
CREATED:20230918T123202Z
LAST-MODIFIED:20230918T123202Z
UID:1116-1718668800-1718755199@alfred-kaestner-grundschule.de
SUMMARY:Zeugnisausgabe Kl. 4
DESCRIPTION:
URL:https://alfred-kaestner-grundschule.de/event/zeugnisausgabe-kl-4/
END:VEVENT
BEGIN:VEVENT
DTSTART;VALUE=DATE:20240619
DTEND;VALUE=DATE:20240620
DTSTAMP:20260422T010615
CREATED:20230918T123117Z
LAST-MODIFIED:20230918T123117Z
UID:1114-1718755200-1718841599@alfred-kaestner-grundschule.de
SUMMARY:Jahreszeugnisse
DESCRIPTION:
URL:https://alfred-kaestner-grundschule.de/event/jahreszeugnisse/
END:VEVENT
BEGIN:VEVENT
DTSTART;VALUE=DATE:20240620
DTEND;VALUE=DATE:20240803
DTSTAMP:20260422T010615
CREATED:20230918T123301Z
LAST-MODIFIED:20230918T123301Z
UID:1118-1718841600-1722643199@alfred-kaestner-grundschule.de
SUMMARY:Sommerferien 2024
DESCRIPTION:
URL:https://alfred-kaestner-grundschule.de/event/sommerferien-2024/
END:VEVENT
END:VCALENDAR