BEGIN:VCALENDAR
VERSION:2.0
PRODID:-// - ECPv6.15.20//NONSGML v1.0//EN
CALSCALE:GREGORIAN
METHOD:PUBLISH
X-ORIGINAL-URL:https://alfred-kaestner-grundschule.de
X-WR-CALDESC:Veranstaltungen für 
REFRESH-INTERVAL;VALUE=DURATION:PT1H
X-Robots-Tag:noindex
X-PUBLISHED-TTL:PT1H
BEGIN:VTIMEZONE
TZID:Europe/Berlin
BEGIN:DAYLIGHT
TZOFFSETFROM:+0100
TZOFFSETTO:+0200
TZNAME:CEST
DTSTART:20240331T010000
END:DAYLIGHT
BEGIN:STANDARD
TZOFFSETFROM:+0200
TZOFFSETTO:+0100
TZNAME:CET
DTSTART:20241027T010000
END:STANDARD
BEGIN:DAYLIGHT
TZOFFSETFROM:+0100
TZOFFSETTO:+0200
TZNAME:CEST
DTSTART:20250330T010000
END:DAYLIGHT
BEGIN:STANDARD
TZOFFSETFROM:+0200
TZOFFSETTO:+0100
TZNAME:CET
DTSTART:20251026T010000
END:STANDARD
BEGIN:DAYLIGHT
TZOFFSETFROM:+0100
TZOFFSETTO:+0200
TZNAME:CEST
DTSTART:20260329T010000
END:DAYLIGHT
BEGIN:STANDARD
TZOFFSETFROM:+0200
TZOFFSETTO:+0100
TZNAME:CET
DTSTART:20261025T010000
END:STANDARD
END:VTIMEZONE
BEGIN:VEVENT
DTSTART;VALUE=DATE:20250307
DTEND;VALUE=DATE:20250308
DTSTAMP:20260421T113214
CREATED:20240802T170945Z
LAST-MODIFIED:20240802T170945Z
UID:1534-1741305600-1741391999@alfred-kaestner-grundschule.de
SUMMARY:Ende der Anmeldung für OS/GYM
DESCRIPTION:
URL:https://alfred-kaestner-grundschule.de/event/ende-der-anmeldung-fuer-os-gym/
END:VEVENT
BEGIN:VEVENT
DTSTART;VALUE=DATE:20250311
DTEND;VALUE=DATE:20250312
DTSTAMP:20260421T113214
CREATED:20240802T171606Z
LAST-MODIFIED:20240802T171606Z
UID:1536-1741651200-1741737599@alfred-kaestner-grundschule.de
SUMMARY:Leistungserhebung für die Aufnahme am Gymnasium
DESCRIPTION:Nachtermin: 19.03.25
URL:https://alfred-kaestner-grundschule.de/event/leistungserhebung-fuer-die-aufnahme-am-gymnasium/
END:VEVENT
BEGIN:VEVENT
DTSTART;VALUE=DATE:20250321
DTEND;VALUE=DATE:20250322
DTSTAMP:20260421T113214
CREATED:20240802T171638Z
LAST-MODIFIED:20240802T171638Z
UID:1538-1742515200-1742601599@alfred-kaestner-grundschule.de
SUMMARY:Hort Schließtag
DESCRIPTION:
URL:https://alfred-kaestner-grundschule.de/event/hort-schliesstag-2/
END:VEVENT
END:VCALENDAR